BEGIN:VCALENDAR
VERSION:2.0
PRODID:-//Exerzitien auf der Straße - ECPv6.15.20//NONSGML v1.0//EN
CALSCALE:GREGORIAN
METHOD:PUBLISH
X-ORIGINAL-URL:https://strassenexerzitien.de
X-WR-CALDESC:Veranstaltungen für Exerzitien auf der Straße
REFRESH-INTERVAL;VALUE=DURATION:PT1H
X-Robots-Tag:noindex
X-PUBLISHED-TTL:PT1H
BEGIN:VTIMEZONE
TZID:UTC
BEGIN:STANDARD
TZOFFSETFROM:+0000
TZOFFSETTO:+0000
TZNAME:UTC
DTSTART:20150101T000000
END:STANDARD
END:VTIMEZONE
BEGIN:VEVENT
DTSTART;TZID=UTC:20160402T100000
DTEND;TZID=UTC:20160402T170000
DTSTAMP:20260420T205137
CREATED:20160213T165520Z
LAST-MODIFIED:20160220T065048Z
UID:4883-1459591200-1459616400@strassenexerzitien.de
SUMMARY:Berlin: Ein Tag auf der Straße
DESCRIPTION:Wie in allen Exerzitien geht es auch bei eintägigen Straßenexerzitien darum\, einen geistlichen Blick bzw. ein geistliches Suchen einzuüben: Das wahrzunehmen und wahr sein zu lassen\, was in mir und um mich herum ist. Das sind Regungen\, Bewegungen\, Situationen\, meine Umwelt\, meine Mitmenschen und die Beziehung zu ihnen – und darin die Spur des Geheimnisses\, das wir Gott nennen. Mehr zur Idee der Straßenexerzitien findet sich in diesem Artikel. \nDie Marienkirche ist eine der ältesten Kirchen Berlins. Heute steht sie in einem ganz eigenen Umfeld. Dieses Umfeld der Marienkirche\, ein hochfrequentierter Ort mit einer Mischung aus Kommerz und Leere\, aus Urgeschichte Berlins und Moderne\, aus bewusstem Abbruch und Demonstration von Stärke braucht Menschen\, die wahrnehmen\, was ist. Die aus einer Kirche herausgehen\, die seit über 700 Jahren Zeugin des Geschehens am Platz ist. \nDer Exerzitientag beginnt um 10 Uhr mit einer Einführung und endet um 17 Uhr. Nach einer Einführung gehen wir für etwa drei Stunden auf die Straßen Berlins. Um 14:00 Uhr kommen wir wieder zusammen zu einem einfachen Mittagessen: Jede(r) bringt eine Kleinigkeit mit. Danach tauschen wir uns über das aus\, was wir auf der Straße erfahren haben. Zum Abschluß feiern wir gemeinsam Gottesdienst. \nBegleitet werden die Exerzitien von Christian Herwartz\, Jörg Haas\, Kathrin Happe und weiteren Begleiter/innen. \nTreffpunkt ist auf der rechten Seite des Kirchenschiffs. Bitte anmelden bei Pfarrerin Cordula Machoni cordula.machoni(at)marienkirche-berlin.de \nWer möchte\, kann zum Schluß des Tages um 18:30 Uhr noch an einer Lesung aus „Im Alltag der Straße Gottes Spuren suchen“ in St. Marien teilnehmen.
URL:https://strassenexerzitien.de/event/berlin-ein-tag-auf-der-strasse/
LOCATION:Berlin\, Kirche St. Marien\, Karl-Liebknecht-Str. 8\, Berlin\, 10178
CATEGORIES:Kurse,Termine
ATTACH;FMTTYPE=image/jpeg:https://strassenexerzitien.de/wp-content/uploads/2016/02/919531_413094442122425_1178388803_o.jpg
END:VEVENT
END:VCALENDAR